BEGIN:VCALENDAR
VERSION:2.0
PRODID:-//Sioux County Radio - ECPv6.15.20//NONSGML v1.0//EN
CALSCALE:GREGORIAN
METHOD:PUBLISH
X-ORIGINAL-URL:https://siouxcountyradio.com
X-WR-CALDESC:Events for Sioux County Radio
REFRESH-INTERVAL;VALUE=DURATION:PT1H
X-Robots-Tag:noindex
X-PUBLISHED-TTL:PT1H
BEGIN:VTIMEZONE
TZID:America/Chicago
BEGIN:DAYLIGHT
TZOFFSETFROM:-0600
TZOFFSETTO:-0500
TZNAME:CDT
DTSTART:20250309T080000
END:DAYLIGHT
BEGIN:STANDARD
TZOFFSETFROM:-0500
TZOFFSETTO:-0600
TZNAME:CST
DTSTART:20251102T070000
END:STANDARD
BEGIN:DAYLIGHT
TZOFFSETFROM:-0600
TZOFFSETTO:-0500
TZNAME:CDT
DTSTART:20260308T080000
END:DAYLIGHT
BEGIN:STANDARD
TZOFFSETFROM:-0500
TZOFFSETTO:-0600
TZNAME:CST
DTSTART:20261101T070000
END:STANDARD
BEGIN:DAYLIGHT
TZOFFSETFROM:-0600
TZOFFSETTO:-0500
TZNAME:CDT
DTSTART:20270314T080000
END:DAYLIGHT
BEGIN:STANDARD
TZOFFSETFROM:-0500
TZOFFSETTO:-0600
TZNAME:CST
DTSTART:20271107T070000
END:STANDARD
END:VTIMEZONE
BEGIN:VEVENT
DTSTART;VALUE=DATE:20260424
DTEND;VALUE=DATE:20260425
DTSTAMP:20260425T114646
CREATED:20260410T172145Z
LAST-MODIFIED:20260410T172145Z
UID:10004572-1776988800-1777075199@siouxcountyradio.com
SUMMARY:Smells Like Nirvana Tribute
DESCRIPTION:
URL:https://siouxcountyradio.com/event/smells-like-nirvana-tribute/
LOCATION:Hard Rock Hotel & Casino\, 111 3rd St.\, Sioux City\, IA\, 51101\, United States
CATEGORIES:Major Concerts & Events
END:VEVENT
BEGIN:VEVENT
DTSTART;VALUE=DATE:20260417
DTEND;VALUE=DATE:20260418
DTSTAMP:20260425T114646
CREATED:20260410T172058Z
LAST-MODIFIED:20260410T172058Z
UID:10004571-1776384000-1776470399@siouxcountyradio.com
SUMMARY:Electric Avenue: The 80's MTV Experience
DESCRIPTION:
URL:https://siouxcountyradio.com/event/electric-avenue-the-80s-mtv-experience/
LOCATION:Hard Rock Hotel & Casino\, 111 3rd St.\, Sioux City\, IA\, 51101\, United States
CATEGORIES:Major Concerts & Events
END:VEVENT
BEGIN:VEVENT
DTSTART;VALUE=DATE:20260411
DTEND;VALUE=DATE:20260412
DTSTAMP:20260425T114646
CREATED:20260410T172003Z
LAST-MODIFIED:20260410T172003Z
UID:10004570-1775865600-1775951999@siouxcountyradio.com
SUMMARY:Spazmatics
DESCRIPTION:
URL:https://siouxcountyradio.com/event/spazmatics/
LOCATION:Hard Rock Hotel & Casino\, 111 3rd St.\, Sioux City\, IA\, 51101\, United States
CATEGORIES:Major Concerts & Events
END:VEVENT
END:VCALENDAR