BEGIN:VCALENDAR
VERSION:2.0
PRODID:-//Sioux County Radio - ECPv6.15.20//NONSGML v1.0//EN
CALSCALE:GREGORIAN
METHOD:PUBLISH
X-WR-CALNAME:Sioux County Radio
X-ORIGINAL-URL:https://siouxcountyradio.com
X-WR-CALDESC:Events for Sioux County Radio
REFRESH-INTERVAL;VALUE=DURATION:PT1H
X-Robots-Tag:noindex
X-PUBLISHED-TTL:PT1H
BEGIN:VTIMEZONE
TZID:America/Chicago
BEGIN:DAYLIGHT
TZOFFSETFROM:-0600
TZOFFSETTO:-0500
TZNAME:CDT
DTSTART:20260308T080000
END:DAYLIGHT
BEGIN:STANDARD
TZOFFSETFROM:-0500
TZOFFSETTO:-0600
TZNAME:CST
DTSTART:20261101T070000
END:STANDARD
BEGIN:DAYLIGHT
TZOFFSETFROM:-0600
TZOFFSETTO:-0500
TZNAME:CDT
DTSTART:20270314T080000
END:DAYLIGHT
BEGIN:STANDARD
TZOFFSETFROM:-0500
TZOFFSETTO:-0600
TZNAME:CST
DTSTART:20271107T070000
END:STANDARD
BEGIN:DAYLIGHT
TZOFFSETFROM:-0600
TZOFFSETTO:-0500
TZNAME:CDT
DTSTART:20280312T080000
END:DAYLIGHT
BEGIN:STANDARD
TZOFFSETFROM:-0500
TZOFFSETTO:-0600
TZNAME:CST
DTSTART:20281105T070000
END:STANDARD
END:VTIMEZONE
BEGIN:VEVENT
DTSTART;VALUE=DATE:20270403
DTEND;VALUE=DATE:20270404
DTSTAMP:20260425T102522
CREATED:20260410T180113Z
LAST-MODIFIED:20260410T180113Z
UID:10004613-1806710400-1806796799@siouxcountyradio.com
SUMMARY:The Wiz
DESCRIPTION:
URL:https://siouxcountyradio.com/event/the-wiz/2027-04-03/
CATEGORIES:Major Concerts & Events
END:VEVENT
BEGIN:VEVENT
DTSTART;VALUE=DATE:20270404
DTEND;VALUE=DATE:20270405
DTSTAMP:20260425T102522
CREATED:20260410T180113Z
LAST-MODIFIED:20260410T180113Z
UID:10004614-1806796800-1806883199@siouxcountyradio.com
SUMMARY:The Wiz
DESCRIPTION:
URL:https://siouxcountyradio.com/event/the-wiz/2027-04-04/
CATEGORIES:Major Concerts & Events
END:VEVENT
END:VCALENDAR