BEGIN:VCALENDAR
VERSION:2.0
PRODID:-//Sioux County Radio - ECPv6.15.20//NONSGML v1.0//EN
CALSCALE:GREGORIAN
METHOD:PUBLISH
X-WR-CALNAME:Sioux County Radio
X-ORIGINAL-URL:https://siouxcountyradio.com
X-WR-CALDESC:Events for Sioux County Radio
REFRESH-INTERVAL;VALUE=DURATION:PT1H
X-Robots-Tag:noindex
X-PUBLISHED-TTL:PT1H
BEGIN:VTIMEZONE
TZID:America/Chicago
BEGIN:DAYLIGHT
TZOFFSETFROM:-0600
TZOFFSETTO:-0500
TZNAME:CDT
DTSTART:20250309T080000
END:DAYLIGHT
BEGIN:STANDARD
TZOFFSETFROM:-0500
TZOFFSETTO:-0600
TZNAME:CST
DTSTART:20251102T070000
END:STANDARD
BEGIN:DAYLIGHT
TZOFFSETFROM:-0600
TZOFFSETTO:-0500
TZNAME:CDT
DTSTART:20260308T080000
END:DAYLIGHT
BEGIN:STANDARD
TZOFFSETFROM:-0500
TZOFFSETTO:-0600
TZNAME:CST
DTSTART:20261101T070000
END:STANDARD
BEGIN:DAYLIGHT
TZOFFSETFROM:-0600
TZOFFSETTO:-0500
TZNAME:CDT
DTSTART:20270314T080000
END:DAYLIGHT
BEGIN:STANDARD
TZOFFSETFROM:-0500
TZOFFSETTO:-0600
TZNAME:CST
DTSTART:20271107T070000
END:STANDARD
END:VTIMEZONE
BEGIN:VEVENT
DTSTART;VALUE=DATE:20260612
DTEND;VALUE=DATE:20260613
DTSTAMP:20260420T222657
CREATED:20260410T165849Z
LAST-MODIFIED:20260410T170007Z
UID:10004548-1781222400-1781308799@siouxcountyradio.com
SUMMARY:RiseFest
DESCRIPTION:Get Tickets HERE! \nFriday: Josiah Queen\, Ben Fuller\, Terrian\nSaturday: Phil Wickham\, Hulvey\, Katy Nichole\, Allison Eide\, Warren Peay
URL:https://siouxcountyradio.com/event/risefest/2026-06-12/
LOCATION:RiseFest Festival Grounds\, 112 Country Club Road\, Sheldon\, United States
CATEGORIES:Community Calendar,Major Concerts & Events
END:VEVENT
BEGIN:VEVENT
DTSTART;VALUE=DATE:20260613
DTEND;VALUE=DATE:20260614
DTSTAMP:20260420T222657
CREATED:20260410T165849Z
LAST-MODIFIED:20260410T170007Z
UID:10004549-1781308800-1781395199@siouxcountyradio.com
SUMMARY:RiseFest
DESCRIPTION:Get Tickets HERE! \nFriday: Josiah Queen\, Ben Fuller\, Terrian\nSaturday: Phil Wickham\, Hulvey\, Katy Nichole\, Allison Eide\, Warren Peay
URL:https://siouxcountyradio.com/event/risefest/2026-06-13/
LOCATION:RiseFest Festival Grounds\, 112 Country Club Road\, Sheldon\, United States
CATEGORIES:Community Calendar,Major Concerts & Events
END:VEVENT
END:VCALENDAR